BEGIN:VCALENDAR
VERSION:2.0
PRODID:-//Plone.org//NONSGML plone.app.event//EN
X-WR-TIMEZONE:Europe/Madrid
BEGIN:VEVENT
SUMMARY:Hora del conte especial en anglès
DTSTART;TZID=Europe/Madrid;VALUE=DATE-TIME:20161013T180000
DTEND;TZID=Europe/Madrid;VALUE=DATE-TIME:20161013T190000
DTSTAMP;VALUE=DATE-TIME:20260425T164133Z
UID:0872461b16c316d2a8e2be827fd449e2
CREATED;VALUE=DATE-TIME:20161013T000000Z
CATEGORIES:Infantils
LOCATION:Sala d'Actes de la Biblioteca - C. Bonaire, 2
ORGANIZER:Biblioteca-Regidoria de Cultura
DESCRIPTION:a càrrec de Kids&Us, school of english
URL:https://arenysdemar.cat/document.php?id=31820
END:VEVENT
END:VCALENDAR