BEGIN:VCALENDAR
VERSION:2.0
PRODID:-//Plone.org//NONSGML plone.app.event//EN
X-WR-TIMEZONE:Europe/Madrid
BEGIN:VEVENT
SUMMARY:Inici de la temporada de l'Hora del conte: Monstres
DTSTART;TZID=Europe/Madrid;VALUE=DATE-TIME:20161006T180000
DTEND;TZID=Europe/Madrid;VALUE=DATE-TIME:20161006T190000
DTSTAMP;VALUE=DATE-TIME:20260422T120109Z
UID:c6fb07775a64ebc252440927435cee9f
CREATED;VALUE=DATE-TIME:20161006T000000Z
CATEGORIES:Infantils
LOCATION:Sala d'Actes de la Biblioteca - C. Bonaire, 2
ORGANIZER:Biblioteca-Regidoria de Cultura
DESCRIPTION:a càrrec de Gisela Llimona
URL:https://arenysdemar.cat/document.php?id=31821
END:VEVENT
END:VCALENDAR