BEGIN:VCALENDAR
VERSION:2.0
PRODID:-//Plone.org//NONSGML plone.app.event//EN
X-WR-TIMEZONE:Europe/Madrid
BEGIN:VEVENT
SUMMARY:Conferència de Biologia: L'Esdevenidor de la Mediterrània
DTSTART;TZID=Europe/Madrid;VALUE=DATE-TIME:20161004T180000
DTEND;TZID=Europe/Madrid;VALUE=DATE-TIME:20161004T190000
DTSTAMP;VALUE=DATE-TIME:20260421T052947Z
UID:5b1a913b0c277a73fe7a96f411966450
CREATED;VALUE=DATE-TIME:20161004T000000Z
CATEGORIES:Conferència
LOCATION:Teatre Principal - C. Església, 45-47
ORGANIZER:Aula d'Extensió Universitària
DESCRIPTION:Lliçó inaugural per Joandomènec Ros i Aragonès, biòleg. President de l'Institut d'Estudis Catalans
URL:https://arenysdemar.cat/document.php?id=31827
END:VEVENT
END:VCALENDAR