BEGIN:VCALENDAR
VERSION:2.0
PRODID:-//Plone.org//NONSGML plone.app.event//EN
X-WR-TIMEZONE:Europe/Madrid
BEGIN:VEVENT
SUMMARY:Festa d'El Moll
DTSTART;TZID=Europe/Madrid;VALUE=DATE-TIME:20161029T170000
DTEND;TZID=Europe/Madrid;VALUE=DATE-TIME:20161029T180000
DTSTAMP;VALUE=DATE-TIME:20260422T132252Z
UID:67d9d495bd76972b298f283fb8a0522f
CREATED;VALUE=DATE-TIME:20161029T000000Z
CATEGORIES:Mostra,Infantils
LOCATION:Port
ORGANIZER:El Moll. Col·labora Ajuntament d'Arenys de Mar
COMMENT:Durada: Fins al 30 d´octubre
DESCRIPTION:Activitats continuades
URL:https://arenysdemar.cat/document.php?id=31840
END:VEVENT
END:VCALENDAR