BEGIN:VCALENDAR
VERSION:2.0
PRODID:-//Plone.org//NONSGML plone.app.event//EN
X-WR-TIMEZONE:Europe/Madrid
BEGIN:VEVENT
SUMMARY:Ball del dissabte
DTSTART;TZID=Europe/Madrid;VALUE=DATE-TIME:20161029T223000
DTEND;TZID=Europe/Madrid;VALUE=DATE-TIME:20161029T233000
DTSTAMP;VALUE=DATE-TIME:20260420T004641Z
UID:747c1adc3036ac36a1f3d7ee4dd15363
CREATED;VALUE=DATE-TIME:20161029T000000Z
CATEGORIES:Música
LOCATION:Ateneu Arenyenc - Anselm Clavé, 22
ORGANIZER:Ateneu Arenyenc
COMMENT:Preu: Soci 5 euros i no soci 7 euros
DESCRIPTION:amb el Duet Dominó
URL:https://arenysdemar.cat/document.php?id=31843
END:VEVENT
END:VCALENDAR