BEGIN:VCALENDAR
VERSION:2.0
PRODID:-//Plone.org//NONSGML plone.app.event//EN
X-WR-TIMEZONE:Europe/Madrid
BEGIN:VEVENT
SUMMARY:Havaneres
DTSTART;TZID=Europe/Madrid;VALUE=DATE-TIME:20161007T220000
DTEND;TZID=Europe/Madrid;VALUE=DATE-TIME:20161007T230000
DTSTAMP;VALUE=DATE-TIME:20260419T185350Z
UID:a22f7c9de829a502ee5c5de882d14387
CREATED;VALUE=DATE-TIME:20161007T000000Z
CATEGORIES:Música
LOCATION:Pati del C.C.Calisay - Riera del Pare Fita, 31
ORGANIZER:Ajuntament d´Arenys de Mar
DESCRIPTION:a càrrec de La Vella Lola
URL:https://arenysdemar.cat/document.php?id=31852
END:VEVENT
END:VCALENDAR