BEGIN:VCALENDAR
VERSION:2.0
PRODID:-//Plone.org//NONSGML plone.app.event//EN
X-WR-TIMEZONE:Europe/Madrid
BEGIN:VEVENT
SUMMARY:Proclamació i comiat del Pubillatge Arenyenc
DTSTART;TZID=Europe/Madrid;VALUE=DATE-TIME:20161015T180000
DTEND;TZID=Europe/Madrid;VALUE=DATE-TIME:20161015T190000
DTSTAMP;VALUE=DATE-TIME:20260420T004710Z
UID:8491de481cfa64b6ac9dd5e06c78c1f4
CREATED;VALUE=DATE-TIME:20161015T000000Z
CATEGORIES:Festa
LOCATION:Pati del C.C.Calisay - Riera del Pare Fita, 31
ORGANIZER:Associació de Pubillatge Arenyenc
URL:https://arenysdemar.cat/document.php?id=31854
END:VEVENT
END:VCALENDAR