BEGIN:VCALENDAR
VERSION:2.0
PRODID:-//Plone.org//NONSGML plone.app.event//EN
X-WR-TIMEZONE:Europe/Madrid
BEGIN:VEVENT
SUMMARY:Subhasta del peix
DTSTART;TZID=Europe/Madrid;VALUE=DATE-TIME:20161022T110000
DTEND;TZID=Europe/Madrid;VALUE=DATE-TIME:20161022T120000
DTSTAMP;VALUE=DATE-TIME:20260419T203910Z
UID:0447d16cd62ad243e35346a3200d1e98
CREATED;VALUE=DATE-TIME:20161022T000000Z
CATEGORIES:Mostra
LOCATION:Pati del C.C.Calisay - Riera del Pare Fita, 31
ORGANIZER:Regidoria de Turisme i Fires
URL:https://arenysdemar.cat/document.php?id=31858
END:VEVENT
END:VCALENDAR