BEGIN:VCALENDAR
VERSION:2.0
PRODID:-//Plone.org//NONSGML plone.app.event//EN
X-WR-TIMEZONE:Europe/Madrid
BEGIN:VEVENT
SUMMARY:Repartiment de bosses compostables
DTSTART;TZID=Europe/Madrid;VALUE=DATE-TIME:20160924T110000
DTEND;TZID=Europe/Madrid;VALUE=DATE-TIME:20160924T120000
DTSTAMP;VALUE=DATE-TIME:20260425T124452Z
UID:9b7576db36dcbc1cb5a4f2776f464567
CREATED;VALUE=DATE-TIME:20160924T000000Z
LOCATION:Part alta de la Riera
ORGANIZER:Regidoria de Medi Ambient
URL:https://arenysdemar.cat/document.php?id=31889
END:VEVENT
END:VCALENDAR