BEGIN:VCALENDAR
VERSION:2.0
PRODID:-//Plone.org//NONSGML plone.app.event//EN
X-WR-TIMEZONE:Europe/Madrid
BEGIN:VEVENT
SUMMARY:Venda d'entrades berenar festa de la Gent Gran
DTSTART;TZID=Europe/Madrid;VALUE=DATE-TIME:20161005T100000
DTEND;TZID=Europe/Madrid;VALUE=DATE-TIME:20161005T110000
DTSTAMP;VALUE=DATE-TIME:20260422T085439Z
UID:96f7385a8d27da30289042601b046fd1
CREATED;VALUE=DATE-TIME:20161005T000000Z
CATEGORIES:Festa
LOCATION:Despatx de la Regidoria de Gent Gran del Calisay
ORGANIZER:Regidoria de Gent Gran
COMMENT:Preu: 1&euro;
Durada: De 10 a 13h, els dies 5 i 6 d'octubre
DESCRIPTION:Diada de la Gent Gran
URL:https://arenysdemar.cat/document.php?id=31910
END:VEVENT
END:VCALENDAR