BEGIN:VCALENDAR
VERSION:2.0
PRODID:-//Plone.org//NONSGML plone.app.event//EN
X-WR-TIMEZONE:Europe/Madrid
BEGIN:VEVENT
SUMMARY:37è Cros dels Arenys
DTSTART;TZID=Europe/Madrid;VALUE=DATE-TIME:20161112T100000
DTEND;TZID=Europe/Madrid;VALUE=DATE-TIME:20161112T110000
DTSTAMP;VALUE=DATE-TIME:20260421T215326Z
UID:2a693e7aadc28309ab2d0bc20b057777
CREATED;VALUE=DATE-TIME:20161112T000000Z
CATEGORIES:Esports
LOCATION:Parc Can Jalpí (Arenys de Munt)
ORGANIZER:Regidoria d'Esports i Penya Apa Anem-hi
URL:https://arenysdemar.cat/document.php?id=31939
END:VEVENT
END:VCALENDAR