BEGIN:VCALENDAR
VERSION:2.0
PRODID:-//Plone.org//NONSGML plone.app.event//EN
X-WR-TIMEZONE:Europe/Madrid
BEGIN:VEVENT
SUMMARY:Mòstra de Cinèma Occitan
DTSTART;TZID=Europe/Madrid;VALUE=DATE-TIME:20161015T183000
DTEND;TZID=Europe/Madrid;VALUE=DATE-TIME:20161015T193000
DTSTAMP;VALUE=DATE-TIME:20260425T143314Z
UID:d69fc180e63512c19611ce0a30cc7f7f
CREATED;VALUE=DATE-TIME:20161015T000000Z
CATEGORIES:Cinema
LOCATION:Sala d'Actes de la Biblioteca - C. Bonaire, 2
ORGANIZER:Biblioteca - Regidoria de Cultura, Direcció General de Política Lingüística i Cercle Occità dels 2 Arenys
DESCRIPTION:Presentació a càrrec de Miquèl Maresma, membre de l'Institut d'Estudis Occitans i Xavier Moral, de la Direcció General de Política Lingüística de la Generalitat. Coordinació a càrrec de Xavier Majó, membre del CAOC, Centre d'Agermanament Occitano-Català
URL:https://arenysdemar.cat/document.php?id=31940
END:VEVENT
END:VCALENDAR