BEGIN:VCALENDAR
VERSION:2.0
PRODID:-//Plone.org//NONSGML plone.app.event//EN
X-WR-TIMEZONE:Europe/Madrid
BEGIN:VEVENT
SUMMARY:Arenys de swing
DTSTART;TZID=Europe/Madrid;VALUE=DATE-TIME:20161113T113000
DTEND;TZID=Europe/Madrid;VALUE=DATE-TIME:20161113T123000
DTSTAMP;VALUE=DATE-TIME:20260420T120121Z
UID:69d6e521962de2579be58e4ab799d4d7
CREATED;VALUE=DATE-TIME:20161113T000000Z
CATEGORIES:Dansa,Música
LOCATION:Ateneu Arenyenc - Anselm Clavé, 22
ORGANIZER:Chickens Hoppers d'Arenys de Mar
URL:https://arenysdemar.cat/document.php?id=31973
END:VEVENT
END:VCALENDAR