BEGIN:VCALENDAR
VERSION:2.0
PRODID:-//Plone.org//NONSGML plone.app.event//EN
X-WR-TIMEZONE:Europe/Madrid
BEGIN:VEVENT
SUMMARY:El Club del llibre. Trobada de Clubs de lectura de les Biblioteques del Maresme amb l'autor Rafel Nadal
DTSTART;TZID=Europe/Madrid;VALUE=DATE-TIME:20161110T190000
DTEND;TZID=Europe/Madrid;VALUE=DATE-TIME:20161110T200000
DTSTAMP;VALUE=DATE-TIME:20260424T022112Z
UID:cfa84ae2db9d677116b756a8b6a16f7f
CREATED;VALUE=DATE-TIME:20161110T000000Z
CATEGORIES:Literatura
LOCATION:al Teatre Monumental de Mataró
ORGANIZER:Gerència de Serveis de Biblioteques de la Diputació de Barcelona
COMMENT:Preu: Inscripcions a la Biblioteca. Places limitades
DESCRIPTION:Tertúlia de novel·la de les obres de l'autor
URL:https://arenysdemar.cat/document.php?id=32008
END:VEVENT
END:VCALENDAR