BEGIN:VCALENDAR
VERSION:2.0
PRODID:-//Plone.org//NONSGML plone.app.event//EN
X-WR-TIMEZONE:Europe/Madrid
BEGIN:VEVENT
SUMMARY:Hora del Conte: La pastanaga viatgera
DTSTART;TZID=Europe/Madrid;VALUE=DATE-TIME:20161103T180000
DTEND;TZID=Europe/Madrid;VALUE=DATE-TIME:20161103T190000
DTSTAMP;VALUE=DATE-TIME:20260419T140342Z
UID:99931219d534892a805eb181fe8868ae
CREATED;VALUE=DATE-TIME:20161103T000000Z
CATEGORIES:Infantils
LOCATION:Sala d'Actes de la Biblioteca - C. Bonaire, 2
ORGANIZER:Biblioteca - Regidoria de Cultura i Centre Kumon Arenys
DESCRIPTION:A càrrec de Rosa Miró, del Centre Kumon Arenys
URL:https://arenysdemar.cat/document.php?id=32013
END:VEVENT
END:VCALENDAR