BEGIN:VCALENDAR
VERSION:2.0
PRODID:-//Plone.org//NONSGML plone.app.event//EN
X-WR-TIMEZONE:Europe/Madrid
BEGIN:VEVENT
SUMMARY:Concurs de Rubik
DTSTART;TZID=Europe/Madrid;VALUE=DATE-TIME:20161112T170000
DTEND;TZID=Europe/Madrid;VALUE=DATE-TIME:20161112T180000
DTSTAMP;VALUE=DATE-TIME:20260421T200825Z
UID:f24470b3dccf1683ae512c45e883877a
CREATED;VALUE=DATE-TIME:20161112T000000Z
LOCATION:Espai Jove del C.C.Calisay - Riera del Pare Fita, 31
ORGANIZER:Freki-Team i Espai Jove
URL:https://arenysdemar.cat/document.php?id=32017
END:VEVENT
END:VCALENDAR