BEGIN:VCALENDAR
VERSION:2.0
PRODID:-//Plone.org//NONSGML plone.app.event//EN
X-WR-TIMEZONE:Europe/Madrid
BEGIN:VEVENT
SUMMARY:Exposició: Desembruta
DTSTART;TZID=Europe/Madrid;VALUE=DATE-TIME:20161123T000000
DTEND;TZID=Europe/Madrid;VALUE=DATE-TIME:20161123T010000
DTSTAMP;VALUE=DATE-TIME:20260425T160755Z
UID:7129123ca5ec7a16d4f360c2cb94aeb5
CREATED;VALUE=DATE-TIME:20161123T000000Z
CATEGORIES:Exposició
LOCATION:Sala Bótes del CC Calisay - Riera del Pare Fita, 31
ORGANIZER:Àrea de Medi Ambient i Rezero
COMMENT:Durada: Fins al 30 de novembre
DESCRIPTION:Converteix els residus en recursos
URL:https://arenysdemar.cat/document.php?id=32032
END:VEVENT
END:VCALENDAR