BEGIN:VCALENDAR
VERSION:2.0
PRODID:-//Plone.org//NONSGML plone.app.event//EN
X-WR-TIMEZONE:Europe/Madrid
BEGIN:VEVENT
SUMMARY:Ball de cap d'Any
DTSTART;TZID=Europe/Madrid;VALUE=DATE-TIME:20161231T230000
DTEND;TZID=Europe/Madrid;VALUE=DATE-TIME:20170101T000000
DTSTAMP;VALUE=DATE-TIME:20260422T023559Z
UID:caf080ae616f7134ffaf4e3ad00b46a0
CREATED;VALUE=DATE-TIME:20161231T000000Z
CATEGORIES:Festa,Música
LOCATION:Ateneu Arenyenc - Anselm Clavé, 22
ORGANIZER:Ateneu Arenyenc
COMMENT:Preu: Soci 25 euros i no soci 30 euros
DESCRIPTION:amb el Duet Ària
URL:https://arenysdemar.cat/document.php?id=32041
END:VEVENT
END:VCALENDAR