BEGIN:VCALENDAR
VERSION:2.0
PRODID:-//Plone.org//NONSGML plone.app.event//EN
X-WR-TIMEZONE:Europe/Madrid
BEGIN:VEVENT
SUMMARY:Ball del dissabte
DTSTART;TZID=Europe/Madrid;VALUE=DATE-TIME:20161203T223000
DTEND;TZID=Europe/Madrid;VALUE=DATE-TIME:20161203T233000
DTSTAMP;VALUE=DATE-TIME:20260424T004714Z
UID:260646455495974f0fc7e81735644a27
CREATED;VALUE=DATE-TIME:20161203T000000Z
CATEGORIES:Música
LOCATION:Ateneu Arenyenc - Anselm Clavé, 22
ORGANIZER:Ateneu Arenyenc
COMMENT:Preu: Soci 5 euros i no soci 7 euros
DESCRIPTION:amb l'actuació del Duet Dancing Group
URL:https://arenysdemar.cat/document.php?id=32047
END:VEVENT
END:VCALENDAR