BEGIN:VCALENDAR
VERSION:2.0
PRODID:-//Plone.org//NONSGML plone.app.event//EN
X-WR-TIMEZONE:Europe/Madrid
BEGIN:VEVENT
SUMMARY:Conferència de Món Contemporani: Eleccions EUA-2016: I després d'Obama, què?
DTSTART;TZID=Europe/Madrid;VALUE=DATE-TIME:20161122T180000
DTEND;TZID=Europe/Madrid;VALUE=DATE-TIME:20161122T190000
DTSTAMP;VALUE=DATE-TIME:20260421T211129Z
UID:be227c8bdf8ab77032ccb1e46eff4e4a
CREATED;VALUE=DATE-TIME:20161122T000000Z
CATEGORIES:Conferència
LOCATION:Sala Josep Maria Arnau del C.C.Calisay - Riera del Pare Fita, 31
ORGANIZER:Aula d'Extensió Universitària
DESCRIPTION:a càrrec d'Andreu Mayayo de la Universitat de Barcelona
URL:https://arenysdemar.cat/document.php?id=32067
END:VEVENT
END:VCALENDAR