BEGIN:VCALENDAR
VERSION:2.0
PRODID:-//Plone.org//NONSGML plone.app.event//EN
X-WR-TIMEZONE:Europe/Madrid
BEGIN:VEVENT
SUMMARY:Campanya de donació de sang
DTSTART;TZID=Europe/Madrid;VALUE=DATE-TIME:20161112T170000
DTEND;TZID=Europe/Madrid;VALUE=DATE-TIME:20161112T180000
DTSTAMP;VALUE=DATE-TIME:20260421T184506Z
UID:0e0dbee220a00a982eca41bc3b51c6a3
CREATED;VALUE=DATE-TIME:20161112T000000Z
LOCATION:Riera, davant del C.C. Calisay
ORGANIZER:Banc de Sang i Teixits
COMMENT:Durada: Dissabte i diumenge
URL:https://arenysdemar.cat/document.php?id=32133
END:VEVENT
END:VCALENDAR