BEGIN:VCALENDAR
VERSION:2.0
PRODID:-//Plone.org//NONSGML plone.app.event//EN
X-WR-TIMEZONE:Europe/Madrid
BEGIN:VEVENT
SUMMARY:Donem menjar al Tió!!
DTSTART;TZID=Europe/Madrid;VALUE=DATE-TIME:20161217T173000
DTEND;TZID=Europe/Madrid;VALUE=DATE-TIME:20161217T183000
DTSTAMP;VALUE=DATE-TIME:20260423T200728Z
UID:c6639a94a605c6a752b16688f50f26b7
CREATED;VALUE=DATE-TIME:20161217T000000Z
LOCATION:Pati del C.C.Calisay - Riera del Pare Fita, 31
ORGANIZER:Regidoria de Cultura
COMMENT:Durada: Fins a 2/4 de 9 del vespre
URL:https://arenysdemar.cat/document.php?id=32138
END:VEVENT
END:VCALENDAR