BEGIN:VCALENDAR
VERSION:2.0
PRODID:-//Plone.org//NONSGML plone.app.event//EN
X-WR-TIMEZONE:Europe/Madrid
BEGIN:VEVENT
SUMMARY:Les dotze campanades. Celebrem tots junts l'arribada del Nou Any a la plaça de l'església!!
DTSTART;TZID=Europe/Madrid;VALUE=DATE-TIME:20161231T230000
DTEND;TZID=Europe/Madrid;VALUE=DATE-TIME:20170101T000000
DTSTAMP;VALUE=DATE-TIME:20260423T220432Z
UID:3fe29b816ba45ac805aa239f721d42a1
CREATED;VALUE=DATE-TIME:20161231T000000Z
CATEGORIES:Festa
LOCATION:Plaça de l'Església - Plaça de l'Església
ORGANIZER:Regidoria de Festes. Col·labora Arenys Bàsquet
COMMENT:Durada: fins a les 2 de la matinada
DESCRIPTION:amb música de DJ's
URL:https://arenysdemar.cat/document.php?id=32139
END:VEVENT
END:VCALENDAR