BEGIN:VCALENDAR
VERSION:2.0
PRODID:-//Plone.org//NONSGML plone.app.event//EN
X-WR-TIMEZONE:Europe/Madrid
BEGIN:VEVENT
SUMMARY:Fem cagar el Tió!
DTSTART;TZID=Europe/Madrid;VALUE=DATE-TIME:20161218T110000
DTEND;TZID=Europe/Madrid;VALUE=DATE-TIME:20161218T120000
DTSTAMP;VALUE=DATE-TIME:20260421T140545Z
UID:6645ca3947fa670b3def17564cc11420
CREATED;VALUE=DATE-TIME:20161218T000000Z
CATEGORIES:Infantils
LOCATION:Pati del C.C.Calisay - Riera del Pare Fita, 31
ORGANIZER:Regidoria de Cultura
COMMENT:Durada: Fins a les 2 del migdia
URL:https://arenysdemar.cat/document.php?id=32146
END:VEVENT
END:VCALENDAR