BEGIN:VCALENDAR
VERSION:2.0
PRODID:-//Plone.org//NONSGML plone.app.event//EN
X-WR-TIMEZONE:Europe/Madrid
BEGIN:VEVENT
SUMMARY:Arribada dels Reis de l'Orient
DTSTART;TZID=Europe/Madrid;VALUE=DATE-TIME:20170105T180000
DTEND;TZID=Europe/Madrid;VALUE=DATE-TIME:20170105T190000
DTSTAMP;VALUE=DATE-TIME:20260421T111044Z
UID:32b74959e9eef517fce0cc75a30a2cc6
CREATED;VALUE=DATE-TIME:20170105T000000Z
CATEGORIES:Infantils
LOCATION:Sortida de la part alta de la Riera
ORGANIZER:Ajuntament d'Arenys de Mar
DESCRIPTION:Els Reis de l'Orient que porten coses a la gent!!
URL:https://arenysdemar.cat/document.php?id=32147
END:VEVENT
END:VCALENDAR