BEGIN:VCALENDAR
VERSION:2.0
PRODID:-//Plone.org//NONSGML plone.app.event//EN
X-WR-TIMEZONE:Europe/Madrid
BEGIN:VEVENT
SUMMARY:Ponències sobre la relació entre la infància i l'adolèscència: L'imperi de la imatge
DTSTART;TZID=Europe/Madrid;VALUE=DATE-TIME:20161110T190000
DTEND;TZID=Europe/Madrid;VALUE=DATE-TIME:20161110T200000
DTSTAMP;VALUE=DATE-TIME:20260420T143642Z
UID:9d8344dd2a15d0384121721f1fc51521
CREATED;VALUE=DATE-TIME:20161110T000000Z
CATEGORIES:Cursos,Conferència
LOCATION:Aula d'entitats del C.C. Calisay - Riera Pare Fita, 31
ORGANIZER:Col·lectiu de reflexió sobre infància i adolescència
COMMENT:Preu: gratuït
Durada: tots els dijous de novembre
DESCRIPTION:De com ens relacionem amb la imatge al s.XXI
URL:https://arenysdemar.cat/document.php?id=32149
END:VEVENT
END:VCALENDAR