BEGIN:VCALENDAR
VERSION:2.0
PRODID:-//Plone.org//NONSGML plone.app.event//EN
X-WR-TIMEZONE:Europe/Madrid
BEGIN:VEVENT
SUMMARY:Conferència de la Història del Cinema: París en el cinema
DTSTART;TZID=Europe/Madrid;VALUE=DATE-TIME:20161229T180000
DTEND;TZID=Europe/Madrid;VALUE=DATE-TIME:20161229T190000
DTSTAMP;VALUE=DATE-TIME:20260421T052501Z
UID:d9b3d2d346a7ba4428f043b423217ffa
CREATED;VALUE=DATE-TIME:20161229T000000Z
CATEGORIES:Conferència
LOCATION:Sala Josep Maria Arnau del C.C.Calisay - Riera del Pare Fita, 31
ORGANIZER:Aula d'Extensió Universitària
DESCRIPTION:a càrrec d'Albert Beorlegui, comentarista cinematogràfic
URL:https://arenysdemar.cat/document.php?id=32167
END:VEVENT
END:VCALENDAR