BEGIN:VCALENDAR
VERSION:2.0
PRODID:-//Plone.org//NONSGML plone.app.event//EN
X-WR-TIMEZONE:Europe/Madrid
BEGIN:VEVENT
SUMMARY:Visita guiada a l'exposició Mirades al voltant del Retaule
DTSTART;TZID=Europe/Madrid;VALUE=DATE-TIME:20161126T190000
DTEND;TZID=Europe/Madrid;VALUE=DATE-TIME:20161126T200000
DTSTAMP;VALUE=DATE-TIME:20260420T024546Z
UID:f1f39e2a9db73c910d8b33c958814a32
CREATED;VALUE=DATE-TIME:20161126T000000Z
CATEGORIES:Exposició
LOCATION:Sala Exposicions del C.C.Calisay - Riera del Pare Fita, 31
ORGANIZER:Regidoria de Cultura
DESCRIPTION:a càrrec de Jaume Coll
URL:https://arenysdemar.cat/document.php?id=32177
END:VEVENT
END:VCALENDAR