BEGIN:VCALENDAR
VERSION:2.0
PRODID:-//Plone.org//NONSGML plone.app.event//EN
X-WR-TIMEZONE:Europe/Madrid
BEGIN:VEVENT
SUMMARY:Exposició fotogràfica: Refugiats, l'Odissea cap a Europa
DTSTART;TZID=Europe/Madrid;VALUE=DATE-TIME:20161202T190000
DTEND;TZID=Europe/Madrid;VALUE=DATE-TIME:20161202T200000
DTSTAMP;VALUE=DATE-TIME:20260420T024600Z
UID:0f8976b2e552cb01b0e92c0326cfde2c
CREATED;VALUE=DATE-TIME:20161202T000000Z
CATEGORIES:Exposició
LOCATION:Sala Bótes del CC Calisay - Riera del Pare Fita, 31
ORGANIZER:Ajuntament d'Arenys de Mar i Diputació de Barcelona
COMMENT:Durada: Fins al 14 de desembre de 2016
URL:https://arenysdemar.cat/document.php?id=32189
END:VEVENT
END:VCALENDAR