BEGIN:VCALENDAR
VERSION:2.0
PRODID:-//Plone.org//NONSGML plone.app.event//EN
X-WR-TIMEZONE:Europe/Madrid
BEGIN:VEVENT
SUMMARY:Hora del conte especial de Nadal: Nadalim, Nadalam
DTSTART;TZID=Europe/Madrid;VALUE=DATE-TIME:20161222T180000
DTEND;TZID=Europe/Madrid;VALUE=DATE-TIME:20161222T190000
DTSTAMP;VALUE=DATE-TIME:20260424T022124Z
UID:72315b688595f38bb20e86bbee7b0b85
CREATED;VALUE=DATE-TIME:20161222T000000Z
CATEGORIES:Infantils
LOCATION:Sala d'Actes de la Biblioteca - C. Bonaire, 2
ORGANIZER:Biblioteca - Regidoria de Cultura
DESCRIPTION:a càrrec de Santi Rovira
URL:https://arenysdemar.cat/document.php?id=32197
END:VEVENT
END:VCALENDAR