BEGIN:VCALENDAR
VERSION:2.0
PRODID:-//Plone.org//NONSGML plone.app.event//EN
X-WR-TIMEZONE:Europe/Madrid
BEGIN:VEVENT
SUMMARY:Taller Infantil de Nadal
DTSTART;TZID=Europe/Madrid;VALUE=DATE-TIME:20161220T180000
DTEND;TZID=Europe/Madrid;VALUE=DATE-TIME:20161220T190000
DTSTAMP;VALUE=DATE-TIME:20260424T004732Z
UID:0b902986cbe231d9338f02a2fb212ebf
CREATED;VALUE=DATE-TIME:20161220T000000Z
CATEGORIES:Infantils
LOCATION:Sala d'Actes de la Biblioteca - C. Bonaire, 2
ORGANIZER:Biblioteca - Regidoria de Cultura
COMMENT:Preu: A partir de 5 anys. Inscripcions a la Biblioteca
URL:https://arenysdemar.cat/document.php?id=32200
END:VEVENT
END:VCALENDAR