BEGIN:VCALENDAR
VERSION:2.0
PRODID:-//Plone.org//NONSGML plone.app.event//EN
X-WR-TIMEZONE:Europe/Madrid
BEGIN:VEVENT
SUMMARY:Venda de plantes de Nadal i altres ornaments
DTSTART;TZID=Europe/Madrid;VALUE=DATE-TIME:20161218T100000
DTEND;TZID=Europe/Madrid;VALUE=DATE-TIME:20161218T110000
DTSTAMP;VALUE=DATE-TIME:20260421T213531Z
UID:5de24185d33706c05c159b2a223decaa
CREATED;VALUE=DATE-TIME:20161218T000000Z
CATEGORIES:Mostra
LOCATION:Riera davant del Calisay
ORGANIZER:Residència Geriàtrica municipal
URL:https://arenysdemar.cat/document.php?id=32209
END:VEVENT
END:VCALENDAR