BEGIN:VCALENDAR
VERSION:2.0
PRODID:-//Plone.org//NONSGML plone.app.event//EN
X-WR-TIMEZONE:Europe/Madrid
BEGIN:VEVENT
SUMMARY:Concert de Nadal
DTSTART;TZID=Europe/Madrid;VALUE=DATE-TIME:20161218T123000
DTEND;TZID=Europe/Madrid;VALUE=DATE-TIME:20161218T133000
DTSTAMP;VALUE=DATE-TIME:20260425T233155Z
UID:c65b6122a17d58910630d96cc7c1b501
CREATED;VALUE=DATE-TIME:20161218T000000Z
CATEGORIES:Música
LOCATION:Convent dels Frares Caputxins d'Arenys de Mar
ORGANIZER:Escola de Música
DESCRIPTION:a càrrec de la Coral els Boixets, Cor Tiamat i Cor Adàmaris
URL:https://arenysdemar.cat/document.php?id=32212
END:VEVENT
END:VCALENDAR