BEGIN:VCALENDAR
VERSION:2.0
PRODID:-//Plone.org//NONSGML plone.app.event//EN
X-WR-TIMEZONE:Europe/Madrid
BEGIN:VEVENT
SUMMARY:Venda de plantes de Nadal i manualitats
DTSTART;TZID=Europe/Madrid;VALUE=DATE-TIME:20161218T110000
DTEND;TZID=Europe/Madrid;VALUE=DATE-TIME:20161218T120000
DTSTAMP;VALUE=DATE-TIME:20260425T222400Z
UID:7dc519e9fc4917c051747d59b200e9cd
CREATED;VALUE=DATE-TIME:20161218T000000Z
CATEGORIES:Mostra
LOCATION:Riera, davant del C.C. Calisay
ORGANIZER:Residència Geriàtrica Municipal
DESCRIPTION:Elaborats per la Gent Gran de la residència
URL:https://arenysdemar.cat/document.php?id=32222
END:VEVENT
END:VCALENDAR