BEGIN:VCALENDAR
VERSION:2.0
PRODID:-//Plone.org//NONSGML plone.app.event//EN
X-WR-TIMEZONE:Europe/Madrid
BEGIN:VEVENT
SUMMARY:Conferència: La ciutat perduda de la Lluna
DTSTART;TZID=Europe/Madrid;VALUE=DATE-TIME:20161125T190000
DTEND;TZID=Europe/Madrid;VALUE=DATE-TIME:20161125T200000
DTSTAMP;VALUE=DATE-TIME:20260421T154712Z
UID:b54763bf72ac1de567ef8f608b3c3320
CREATED;VALUE=DATE-TIME:20161125T000000Z
CATEGORIES:Conferència
LOCATION:Sala Polivalent de l'Institut Els Tres Turons
ORGANIZER:Institut Els Tres Turons i el GACA
COMMENT:Preu: gratuït
DESCRIPTION:a càrrec de Jordi Lopesino, escriptor, divulgador científic i astrònom
URL:https://arenysdemar.cat/document.php?id=32252
END:VEVENT
END:VCALENDAR