BEGIN:VCALENDAR
VERSION:2.0
PRODID:-//Plone.org//NONSGML plone.app.event//EN
X-WR-TIMEZONE:Europe/Madrid
BEGIN:VEVENT
SUMMARY:Manualitats fetes amb puntes de coixí
DTSTART;TZID=Europe/Madrid;VALUE=DATE-TIME:20161217T170000
DTEND;TZID=Europe/Madrid;VALUE=DATE-TIME:20161217T180000
DTSTAMP;VALUE=DATE-TIME:20260425T182631Z
UID:035ce651e814d84004fea59eb40aadae
CREATED;VALUE=DATE-TIME:20161217T000000Z
CATEGORIES:Mostra
LOCATION:Riera, davant del C.C. Calisay
ORGANIZER:Associació de  Puntaires Flor d'Alba
COMMENT:Durada: també el 18 de desembre
URL:https://arenysdemar.cat/document.php?id=32268
END:VEVENT
END:VCALENDAR