BEGIN:VCALENDAR
VERSION:2.0
PRODID:-//Plone.org//NONSGML plone.app.event//EN
X-WR-TIMEZONE:Europe/Madrid
BEGIN:VEVENT
SUMMARY:Festival de danses
DTSTART;TZID=Europe/Madrid;VALUE=DATE-TIME:20161217T170000
DTEND;TZID=Europe/Madrid;VALUE=DATE-TIME:20161217T180000
DTSTAMP;VALUE=DATE-TIME:20260424T010816Z
UID:c9f3041b43ef347b3e3bc6e1a886118e
CREATED;VALUE=DATE-TIME:20161217T000000Z
CATEGORIES:Dansa
LOCATION:Escola de Ballet Pilar Martinez
ORGANIZER:Escola de Ballet Pilar Martinez
DESCRIPTION:Exhibició de danses variades
URL:https://arenysdemar.cat/document.php?id=32269
END:VEVENT
END:VCALENDAR