BEGIN:VCALENDAR
VERSION:2.0
PRODID:-//Plone.org//NONSGML plone.app.event//EN
X-WR-TIMEZONE:Europe/Madrid
BEGIN:VEVENT
SUMMARY:Esmorzar multicultural
DTSTART;TZID=Europe/Madrid;VALUE=DATE-TIME:20161217T100000
DTEND;TZID=Europe/Madrid;VALUE=DATE-TIME:20161217T110000
DTSTAMP;VALUE=DATE-TIME:20260424T043326Z
UID:324dbe8cb8ea19a1a263e0daf3daa7b2
CREATED;VALUE=DATE-TIME:20161217T000000Z
CATEGORIES:Mostra
LOCATION:Pati del C.C.Calisay - Riera del Pare Fita, 31
ORGANIZER:Ampa Sinera
DESCRIPTION:Mataró de TV3
URL:https://arenysdemar.cat/document.php?id=32270
END:VEVENT
END:VCALENDAR