BEGIN:VCALENDAR
VERSION:2.0
PRODID:-//Plone.org//NONSGML plone.app.event//EN
X-WR-TIMEZONE:Europe/Madrid
BEGIN:VEVENT
SUMMARY:Atraccions Solidàries
DTSTART;TZID=Europe/Madrid;VALUE=DATE-TIME:20161205T000000
DTEND;TZID=Europe/Madrid;VALUE=DATE-TIME:20161205T010000
DTSTAMP;VALUE=DATE-TIME:20260423T212823Z
UID:e255fcf2aaafba1dd3e724d84e33e81a
CREATED;VALUE=DATE-TIME:20161205T000000Z
CATEGORIES:Infantils
LOCATION:Riera nova esplanada,(davant Asil Torrent)
ORGANIZER:UBICA
COMMENT:Preu: 3&euro;
Durada: fins al 18 de desembre de 2016
DESCRIPTION:per la Marató de TV3 2016
URL:https://arenysdemar.cat/document.php?id=32277
END:VEVENT
END:VCALENDAR