BEGIN:VCALENDAR
VERSION:2.0
PRODID:-//Plone.org//NONSGML plone.app.event//EN
X-WR-TIMEZONE:Europe/Madrid
BEGIN:VEVENT
SUMMARY:Nadal amb swing al Mercat
DTSTART;TZID=Europe/Madrid;VALUE=DATE-TIME:20171201T200000
DTEND;TZID=Europe/Madrid;VALUE=DATE-TIME:20171201T210000
DTSTAMP;VALUE=DATE-TIME:20260421T174405Z
UID:653022c99dc151ff34ffa99edcb14d6a
CREATED;VALUE=DATE-TIME:20171201T000000Z
CATEGORIES:Mostra
LOCATION:Mercat municipal - Riera Bisbe Pol, 82
ORGANIZER:Regidoria de Promoció Econòmica
URL:https://arenysdemar.cat/document.php?id=32322
END:VEVENT
END:VCALENDAR