BEGIN:VCALENDAR
VERSION:2.0
PRODID:-//Plone.org//NONSGML plone.app.event//EN
X-WR-TIMEZONE:Europe/Madrid
BEGIN:VEVENT
SUMMARY:Fira de brocanters
DTSTART;TZID=Europe/Madrid;VALUE=DATE-TIME:20170108T090000
DTEND;TZID=Europe/Madrid;VALUE=DATE-TIME:20170108T100000
DTSTAMP;VALUE=DATE-TIME:20260421T004754Z
UID:cffe283b2fb0853e6e7fb5b35335eb1d
CREATED;VALUE=DATE-TIME:20170108T000000Z
CATEGORIES:Mostra
LOCATION:Riera, davant del C.C. Calisay
ORGANIZER:Associació Col·leccionisme Nou i Vell (Crisàlide)
COMMENT:Preu: Gratuït
URL:https://arenysdemar.cat/document.php?id=32368
END:VEVENT
END:VCALENDAR