BEGIN:VCALENDAR
VERSION:2.0
PRODID:-//Plone.org//NONSGML plone.app.event//EN
X-WR-TIMEZONE:Europe/Madrid
BEGIN:VEVENT
SUMMARY:Reunió explicativa i aclaridora de com afecta la Llei 39/2015 de l'1 d'octubre a les entitats sense ànim de lucre o persones jurídiques
DTSTART;TZID=Europe/Madrid;VALUE=DATE-TIME:20161214T193000
DTEND;TZID=Europe/Madrid;VALUE=DATE-TIME:20161214T203000
DTSTAMP;VALUE=DATE-TIME:20260421T124806Z
UID:60e106aca0e2ac1f13bb2ebd6929d90a
CREATED;VALUE=DATE-TIME:20161214T000000Z
CATEGORIES:Conferència
LOCATION:Sala de Plens de l'Ajuntament
ORGANIZER:Regidoria de Participació Ciutadana
DESCRIPTION:Reunió informativa
URL:https://arenysdemar.cat/document.php?id=32373
END:VEVENT
END:VCALENDAR