BEGIN:VCALENDAR
VERSION:2.0
PRODID:-//Plone.org//NONSGML plone.app.event//EN
X-WR-TIMEZONE:Europe/Madrid
BEGIN:VEVENT
SUMMARY:Ballet: La bella dorment amb The Royal Ballet de Londres
DTSTART;TZID=Europe/Madrid;VALUE=DATE-TIME:20170228T200000
DTEND;TZID=Europe/Madrid;VALUE=DATE-TIME:20170228T210000
DTSTAMP;VALUE=DATE-TIME:20260420T211926Z
UID:670dcea1418b9d1c9fd552cc9ef437ff
CREATED;VALUE=DATE-TIME:20170228T000000Z
CATEGORIES:Cinema,Música
LOCATION:Teatre Principal - C. Església, 45-47
ORGANIZER:S.C. L'Esperança i Regidoria de Cultura
COMMENT:Preu: 15 anticipada, 17 a taquilla i 13 socis
DESCRIPTION:Retransmissió en directe des de l'Opera House de Londres
URL:https://arenysdemar.cat/document.php?id=32424
END:VEVENT
END:VCALENDAR