BEGIN:VCALENDAR
VERSION:2.0
PRODID:-//Plone.org//NONSGML plone.app.event//EN
X-WR-TIMEZONE:Europe/Madrid
BEGIN:VEVENT
SUMMARY:Il convito de Domenico Cimarosa
DTSTART;TZID=Europe/Madrid;VALUE=DATE-TIME:20170226T190000
DTEND;TZID=Europe/Madrid;VALUE=DATE-TIME:20170226T200000
DTSTAMP;VALUE=DATE-TIME:20260423T232052Z
UID:6f947f049a7cf56aa9d5b887307420ce
CREATED;VALUE=DATE-TIME:20170226T000000Z
CATEGORIES:Música
LOCATION:Teatre Principal - C. Església, 45-47
ORGANIZER:S.C. L'Esperança i Regidoria de Cultura
COMMENT:Preu: 12 anticipada, 15 taquilla i 10 socis
DESCRIPTION:a càrrec de l'Opera Jove
URL:https://arenysdemar.cat/document.php?id=32425
END:VEVENT
END:VCALENDAR