BEGIN:VCALENDAR
VERSION:2.0
PRODID:-//Plone.org//NONSGML plone.app.event//EN
X-WR-TIMEZONE:Europe/Madrid
BEGIN:VEVENT
SUMMARY:Teatre familiar: Les supertietes
DTSTART;TZID=Europe/Madrid;VALUE=DATE-TIME:20170219T180000
DTEND;TZID=Europe/Madrid;VALUE=DATE-TIME:20170219T190000
DTSTAMP;VALUE=DATE-TIME:20260420T213711Z
UID:32f30baf37e0bac9334c5b2b414924ec
CREATED;VALUE=DATE-TIME:20170219T000000Z
CATEGORIES:Infantils
LOCATION:Teatre Principal - C. Església, 45-47
ORGANIZER:S.C. L'Esperança i Regidoria de Cultura
COMMENT:Preu: 5&euro; anticipada, 6&euro; taquilla i 4&euro; socis
DESCRIPTION:a càrrec de la Cia. Les Bianchis
URL:https://arenysdemar.cat/document.php?id=32426
END:VEVENT
END:VCALENDAR