BEGIN:VCALENDAR
VERSION:2.0
PRODID:-//Plone.org//NONSGML plone.app.event//EN
X-WR-TIMEZONE:Europe/Madrid
BEGIN:VEVENT
SUMMARY:Woolf Works amb The Royal Ballet de Londres
DTSTART;TZID=Europe/Madrid;VALUE=DATE-TIME:20170208T201500
DTEND;TZID=Europe/Madrid;VALUE=DATE-TIME:20170208T211500
DTSTAMP;VALUE=DATE-TIME:20260423T144719Z
UID:98120c734248c0b254e0d90e39852b89
CREATED;VALUE=DATE-TIME:20170208T000000Z
CATEGORIES:Cinema,Música
LOCATION:Teatre Principal - C. Església, 45-47
ORGANIZER:S.C. L'Esperança i Regidoria de Cultura
COMMENT:Preu: 15&euro; anticipada, 17&euro; a taquilla i 13&euro; socis
DESCRIPTION:Retransmissió en directe des de l'Opera House de Londres
URL:https://arenysdemar.cat/document.php?id=32428
END:VEVENT
END:VCALENDAR