BEGIN:VCALENDAR
VERSION:2.0
PRODID:-//Plone.org//NONSGML plone.app.event//EN
X-WR-TIMEZONE:Europe/Madrid
BEGIN:VEVENT
SUMMARY:Història de la Ciència: Eduard Fontserè, la meteorologia al servei del país i de la llengua
DTSTART;TZID=Europe/Madrid;VALUE=DATE-TIME:20170221T180000
DTEND;TZID=Europe/Madrid;VALUE=DATE-TIME:20170221T190000
DTSTAMP;VALUE=DATE-TIME:20260422T170628Z
UID:81c8cbe39e122f773c015f5fbdd571d0
CREATED;VALUE=DATE-TIME:20170221T000000Z
CATEGORIES:Conferència
LOCATION:Sala Josep Maria Arnau del C.C.Calisay - Riera del Pare Fita, 31
ORGANIZER:Aula d'Extensió Universitària
DESCRIPTION:a càrrec de Joan Arús de la Universitat Politècnica de Catalunya
URL:https://arenysdemar.cat/document.php?id=32437
END:VEVENT
END:VCALENDAR