BEGIN:VCALENDAR
VERSION:2.0
PRODID:-//Plone.org//NONSGML plone.app.event//EN
X-WR-TIMEZONE:Europe/Madrid
BEGIN:VEVENT
SUMMARY:Conferència d'Història de la Ciència: Al-Andalus, puente entre la ciencia árabe y la ciencia europea
DTSTART;TZID=Europe/Madrid;VALUE=DATE-TIME:20170214T180000
DTEND;TZID=Europe/Madrid;VALUE=DATE-TIME:20170214T190000
DTSTAMP;VALUE=DATE-TIME:20260420T211940Z
UID:77e33be5bcc657bffabecd42af997298
CREATED;VALUE=DATE-TIME:20170214T000000Z
CATEGORIES:Conferència
LOCATION:Sala Josep Maria Arnau del C.C.Calisay - Riera del Pare Fita, 31
ORGANIZER:Aula d'Extensió Universitària
DESCRIPTION:a càrrec de Julio Samsó de la Universitat de Barcelona
URL:https://arenysdemar.cat/document.php?id=32438
END:VEVENT
END:VCALENDAR