BEGIN:VCALENDAR
VERSION:2.0
PRODID:-//Plone.org//NONSGML plone.app.event//EN
X-WR-TIMEZONE:Europe/Madrid
BEGIN:VEVENT
SUMMARY:13a lliga social de l'AFA. 3r Lliurament
DTSTART;TZID=Europe/Madrid;VALUE=DATE-TIME:20170309T204500
DTEND;TZID=Europe/Madrid;VALUE=DATE-TIME:20170309T214500
DTSTAMP;VALUE=DATE-TIME:20260422T041547Z
UID:b0f7ad631c2ee78d7d5158fb77258bef
CREATED;VALUE=DATE-TIME:20170309T000000Z
CATEGORIES:Mostra
LOCATION:Local Social de l'AFA (Seràfics) - Josep Baralt, s/n
ORGANIZER:Agrupació Fotogràfica d'Arenys de Mar
DESCRIPTION:Tema prohibit FOTO DIÜRNA
URL:https://arenysdemar.cat/document.php?id=32461
END:VEVENT
END:VCALENDAR