BEGIN:VCALENDAR
VERSION:2.0
PRODID:-//Plone.org//NONSGML plone.app.event//EN
X-WR-TIMEZONE:Europe/Madrid
BEGIN:VEVENT
SUMMARY:Sopar de cloenda i lliurament de premis de la 13a lliga social de l'AFA
DTSTART;TZID=Europe/Madrid;VALUE=DATE-TIME:20170616T210000
DTEND;TZID=Europe/Madrid;VALUE=DATE-TIME:20170616T220000
DTSTAMP;VALUE=DATE-TIME:20260420T064727Z
UID:a0b4521012c600c77222cf4daf1162a7
CREATED;VALUE=DATE-TIME:20170616T000000Z
CATEGORIES:Mostra
LOCATION:Bar del Seràfics - Josep Baralt, s/n
ORGANIZER:Agrupació Fotogràfica d'Arenys de Mar
URL:https://arenysdemar.cat/document.php?id=32465
END:VEVENT
END:VCALENDAR